BEGIN:VCALENDAR
VERSION:2.0
PRODID:-//www.udsf.org//NONSGML kigkonsult.se iCalcreator 2.30.10//
CALSCALE:GREGORIAN
METHOD:PUBLISH
UID:4aee5b97-28cf-4c24-9e1d-1418e2d16cb8
X-WR-CALDESC:This event has been cancelled.
X-WR-RELCALID:4c84d65e345ebd2fc5f591043d9eb0d6
X-WR-TIMEZONE:America/Denver
BEGIN:VTIMEZONE
TZID:America/Denver
BEGIN:STANDARD
TZNAME:MST
DTSTART:20221106T020000
TZOFFSETFROM:-0600
TZOFFSETTO:-0700
RDATE:20231105T020000
RDATE:20241103T020000
END:STANDARD
BEGIN:DAYLIGHT
TZNAME:MDT
DTSTART:20230312T020000
TZOFFSETFROM:-0700
TZOFFSETTO:-0600
RDATE:20240310T020000
END:DAYLIGHT
END:VTIMEZONE
BEGIN:VEVENT
UID:757f4885-5040-40ef-af4f-8d3288ee813b
DTSTAMP:20260423T124234Z
DESCRIPTION:This event has been cancelled.
DTSTART;TZID=America/Denver:20230624T180000
DTEND;TZID=America/Denver:20230624T203000
LOCATION:11473 South Chapel View Drive\, South Jordan\, UT 84095 US
SUMMARY:Adults w/ DS Jammin' June Dance Party
END:VEVENT
END:VCALENDAR
