BEGIN:VCALENDAR
VERSION:2.0
PRODID:-//www.udsf.org//NONSGML kigkonsult.se iCalcreator 2.30.10//
CALSCALE:GREGORIAN
METHOD:PUBLISH
UID:9f3de001-6d72-4efc-a8b0-77de282bdce8
X-WR-CALDESC:Individuals with DS ages 12-21+\, come enjoy pizza\, ice cream
 \, and karaoke with Santa! Parents can stay with their children or drop th
 em off and pick them up. $5 registration fee. See you there!
X-WR-RELCALID:678a7105a4c446451c0f9f85d76f1b4d
X-WR-TIMEZONE:America/Denver
BEGIN:VTIMEZONE
TZID:America/Denver
BEGIN:STANDARD
TZNAME:MST
DTSTART:20231105T020000
TZOFFSETFROM:-0600
TZOFFSETTO:-0700
RDATE:20241103T020000
END:STANDARD
BEGIN:DAYLIGHT
TZNAME:MDT
DTSTART:20230312T020000
TZOFFSETFROM:-0700
TZOFFSETTO:-0600
RDATE:20240310T020000
RDATE:20250309T020000
END:DAYLIGHT
END:VTIMEZONE
BEGIN:VEVENT
UID:fd731fbf-e8fd-4f0d-99c9-c42e267a519b
DTSTAMP:20260420T064217Z
DESCRIPTION:Individuals with DS ages 12-21+\, come enjoy pizza\, ice cream\
 , and karaoke with Santa! Parents can stay with their children or drop the
 m off and pick them up. $5 registration fee. See you there!
DTSTART;TZID=America/Denver:20231222T130000
DTEND;TZID=America/Denver:20231222T150000
LOCATION:14212 South Canyon Vine Cove\, Draper\, UT 84020 US
SUMMARY:Club Teen 21 Pizza & Ice Cream with Santa
END:VEVENT
END:VCALENDAR
