BEGIN:VCALENDAR
VERSION:2.0
PRODID:-//www.udsf.org//NONSGML kigkonsult.se iCalcreator 2.30.10//
CALSCALE:GREGORIAN
METHOD:PUBLISH
UID:68a49175-cc06-49cb-8f0a-c4ff84c9712b
X-WR-CALDESC:
X-WR-RELCALID:362c864fefc9ef31c49dd58b9a4f17d7
X-WR-TIMEZONE:America/Denver
BEGIN:VTIMEZONE
TZID:America/Denver
BEGIN:STANDARD
TZNAME:MST
DTSTART:20231105T020000
TZOFFSETFROM:-0600
TZOFFSETTO:-0700
RDATE:20241103T020000
END:STANDARD
BEGIN:DAYLIGHT
TZNAME:MDT
DTSTART:20230312T020000
TZOFFSETFROM:-0700
TZOFFSETTO:-0600
RDATE:20240310T020000
RDATE:20250309T020000
END:DAYLIGHT
END:VTIMEZONE
BEGIN:VEVENT
UID:8a4363fb-7f47-47ef-9422-cc34ced25203
DTSTAMP:20260420T033548Z
DESCRIPTION:
DTSTART;TZID=America/Denver:20240216T180000
DTEND;TZID=America/Denver:20240216T200000
LOCATION:14212 South Canyon Vine Cove\, Draper\, UT 84020 US
SUMMARY:Club Teen 21 Etiquette Dinner
END:VEVENT
END:VCALENDAR
