BEGIN:VCALENDAR
VERSION:2.0
PRODID:-//www.udsf.org//NONSGML kigkonsult.se iCalcreator 2.30.10//
CALSCALE:GREGORIAN
METHOD:PUBLISH
UID:c28f8b72-b524-4fc7-ae3b-77f6f8e86e92
X-WR-CALDESC:
X-WR-RELCALID:bfb1bcda20b64cc7f5fd4cda3c167457
X-WR-TIMEZONE:America/Denver
BEGIN:VTIMEZONE
TZID:America/Denver
BEGIN:STANDARD
TZNAME:MST
DTSTART:20231105T020000
TZOFFSETFROM:-0600
TZOFFSETTO:-0700
RDATE:20241103T020000
END:STANDARD
BEGIN:DAYLIGHT
TZNAME:MDT
DTSTART:20240310T020000
TZOFFSETFROM:-0700
TZOFFSETTO:-0600
RDATE:20250309T020000
END:DAYLIGHT
END:VTIMEZONE
BEGIN:VEVENT
UID:8cea2fea-86e2-4dd9-b0a3-1b28df64bb16
DTSTAMP:20260420T000811Z
DESCRIPTION:
DTSTART;TZID=America/Denver:20240413T183000
DTEND;TZID=America/Denver:20240413T203000
LOCATION:11473 South Chapel View Drive\, South Jordan\, UT 84095 US
SUMMARY:Boogie Into Spring Dance
END:VEVENT
END:VCALENDAR
