BEGIN:VCALENDAR
VERSION:2.0
PRODID:-//www.udsf.org//NONSGML kigkonsult.se iCalcreator 2.30.10//
CALSCALE:GREGORIAN
METHOD:PUBLISH
UID:1523ffaf-5872-4ba5-be36-371aa814c6d0
X-WR-CALDESC:
X-WR-RELCALID:1208b96c4683ef557a127028880b619d
X-WR-TIMEZONE:America/Denver
BEGIN:VTIMEZONE
TZID:America/Denver
BEGIN:STANDARD
TZNAME:MST
DTSTART:20231105T020000
TZOFFSETFROM:-0600
TZOFFSETTO:-0700
RDATE:20241103T020000
RDATE:20251102T020000
END:STANDARD
BEGIN:DAYLIGHT
TZNAME:MDT
DTSTART:20240310T020000
TZOFFSETFROM:-0700
TZOFFSETTO:-0600
RDATE:20250309T020000
END:DAYLIGHT
END:VTIMEZONE
BEGIN:VEVENT
UID:bd3693b8-9713-4944-8882-e2dfe9ba8a6f
DTSTAMP:20260420T031401Z
DESCRIPTION:
DTSTART;TZID=America/Denver:20240824T120000
DTEND;TZID=America/Denver:20240824T140000
LOCATION:Private Residence in Salt Lake/Cottonwood Heights Area
SUMMARY:Club Teen 21 BBQ & Pool Party
END:VEVENT
END:VCALENDAR
