BEGIN:VCALENDAR
VERSION:2.0
PRODID:-//www.udsf.org//NONSGML kigkonsult.se iCalcreator 2.30.10//
CALSCALE:GREGORIAN
METHOD:PUBLISH
UID:41d55f84-4b37-4ef3-81c4-6c16185f77ce
X-WR-CALDESC:Join UDSF for a fun day at Hogle Zoo! There will be helpers to
  chaperone\, but caregivers are welcome. Caregivers will need to drop off/
 pick up their child.\n\nCaregivers will need to pay the full admission pri
 ce if attending (approx. $22).\nIndividuals with Down syndrome will need t
 o pay $8 for admission. \nPayment will be taken at the zoo for caregivers\
 , but please RSVP by clicking 'RSVP' above! This is where payment will be 
 taken for individuals w/ DS.
X-WR-RELCALID:561dcd9270b7b069c99893ed93af2af5
X-WR-TIMEZONE:America/Denver
BEGIN:VTIMEZONE
TZID:America/Denver
BEGIN:STANDARD
TZNAME:MST
DTSTART:20231105T020000
TZOFFSETFROM:-0600
TZOFFSETTO:-0700
RDATE:20241103T020000
RDATE:20251102T020000
END:STANDARD
BEGIN:DAYLIGHT
TZNAME:MDT
DTSTART:20240310T020000
TZOFFSETFROM:-0700
TZOFFSETTO:-0600
RDATE:20250309T020000
RDATE:20260308T020000
END:DAYLIGHT
END:VTIMEZONE
BEGIN:VEVENT
UID:4694e3c2-f255-4308-a8f8-d95211ed4221
DTSTAMP:20260420T040443Z
DESCRIPTION:Join UDSF for a fun day at Hogle Zoo! There will be helpers to 
 chaperone\, but caregivers are welcome. Caregivers will need to drop off/p
 ick up their child.\n\nCaregivers will need to pay the full admission pric
 e if attending (approx. $22).\nIndividuals with Down syndrome will need to
  pay $8 for admission. \nPayment will be taken at the zoo for caregivers\,
  but please RSVP by clicking 'RSVP' above! This is where payment will be t
 aken for individuals w/ DS.
DTSTART;TZID=America/Denver:20240914T130000
DTEND;TZID=America/Denver:20240914T160000
LOCATION:2600 Sunnyside Ave S\, Salt Lake City\, UT 84108 US
SUMMARY:Club Teen 21 Zoo Day
END:VEVENT
END:VCALENDAR
