BEGIN:VCALENDAR
VERSION:2.0
PRODID:-//www.udsf.org//NONSGML kigkonsult.se iCalcreator 2.30.10//
CALSCALE:GREGORIAN
METHOD:PUBLISH
UID:d6f36cff-e57e-4c9c-a62b-6d33bed648d6
X-WR-CALDESC:Adults with DS and Club Teen 21\, you are invited to attend a 
 Luau Party on Saturday\, June 21st\, 6-8 pm. \n\nThis is for ages 13+. Pai
 d guests are invited. (This activity is for adults and teens. This is not 
 a family event. Please do not bring children.)\n\nJoin us for a night of I
 sland entertainment\, Hula dancing\, Kalua pork dinner\, and fun!\n\nTropi
 cal attire is suggested.\n\n$5 registration fee. Reserve your spot by clic
 king the “Register Now” button above.
X-WR-RELCALID:3d1ce6098cc2cf26f988b18da928714a
X-WR-TIMEZONE:America/Denver
BEGIN:VTIMEZONE
TZID:America/Denver
BEGIN:STANDARD
TZNAME:MST
DTSTART:20241103T020000
TZOFFSETFROM:-0600
TZOFFSETTO:-0700
RDATE:20251102T020000
RDATE:20261101T020000
END:STANDARD
BEGIN:DAYLIGHT
TZNAME:MDT
DTSTART:20250309T020000
TZOFFSETFROM:-0700
TZOFFSETTO:-0600
RDATE:20260308T020000
END:DAYLIGHT
END:VTIMEZONE
BEGIN:VEVENT
UID:e620fbde-0300-44e5-8bff-8edd7047e9a0
DTSTAMP:20260420T184740Z
DESCRIPTION:Adults with DS and Club Teen 21\, you are invited to attend a L
 uau Party on Saturday\, June 21st\, 6-8 pm. \n\nThis is for ages 13+. Paid
  guests are invited. (This activity is for adults and teens. This is not a
  family event. Please do not bring children.)\n\nJoin us for a night of Is
 land entertainment\, Hula dancing\, Kalua pork dinner\, and fun!\n\nTropic
 al attire is suggested.\n\n$5 registration fee. Reserve your spot by click
 ing the “Register Now” button above.
DTSTART;TZID=America/Denver:20250621T180000
DTEND;TZID=America/Denver:20250621T200000
LOCATION:West Riverfront Park Pavillion\, 11050 So Riverfront Parkway\, Sou
 th Jordan\, UT 84095 US
SUMMARY:Adults and Teens 13+ Luau Party\, South Jordan
END:VEVENT
END:VCALENDAR
