BEGIN:VCALENDAR
VERSION:2.0
PRODID:-//www.udsf.org//NONSGML kigkonsult.se iCalcreator 2.30.10//
CALSCALE:GREGORIAN
METHOD:PUBLISH
UID:80ffb877-1039-4ef3-be2f-1043fa9400b1
X-WR-CALDESC:Adults w/DS (Ages 18+) Pool Party and BBQ.\n\nUDSF will provid
 e burgers\, drinks\, and dessert. Please bring a side dish or salad to sha
 re.\n\nDon't forget your towel and sunscreen.\n\nRegistration Fee $3
X-WR-RELCALID:f270e3ac49aa61b9f24fee1cd682ba76
X-WR-TIMEZONE:America/Denver
BEGIN:VTIMEZONE
TZID:America/Denver
BEGIN:STANDARD
TZNAME:MST
DTSTART:20241103T020000
TZOFFSETFROM:-0600
TZOFFSETTO:-0700
RDATE:20251102T020000
RDATE:20261101T020000
END:STANDARD
BEGIN:DAYLIGHT
TZNAME:MDT
DTSTART:20250309T020000
TZOFFSETFROM:-0700
TZOFFSETTO:-0600
RDATE:20260308T020000
END:DAYLIGHT
END:VTIMEZONE
BEGIN:VEVENT
UID:c04a0b58-56d3-4181-ab42-fb8d19061632
DTSTAMP:20260420T220522Z
DESCRIPTION:Adults w/DS (Ages 18+) Pool Party and BBQ.\n\nUDSF will provide
  burgers\, drinks\, and dessert. Please bring a side dish or salad to shar
 e.\n\nDon't forget your towel and sunscreen.\n\nRegistration Fee $3
DTSTART;TZID=America/Denver:20250816T173000
DTEND;TZID=America/Denver:20250816T193000
LOCATION:11497 S Lampton View Drive\, So. Jordan\, AL 84095 US
SUMMARY:Adults w/DS Pool Party and BBQ in So. Jordan
END:VEVENT
END:VCALENDAR
