BEGIN:VCALENDAR
VERSION:2.0
PRODID:-//www.udsf.org//NONSGML kigkonsult.se iCalcreator 2.30.10//
CALSCALE:GREGORIAN
METHOD:PUBLISH
UID:55cbdf32-3ee9-4f55-951e-9bd6c2c5fad3
X-WR-CALDESC:Adults with DS Ages 18+ Halloween Dance\n\n6:30-8:30 PM\n\nLoc
 ation is usual church building as past activities in South Jordan.\n\n$3 R
 egistration Fee. Costumes suggested. Spooktacular treats provided.\n\nCOME
  DANCE THE NIGHT AWAY WITH OUR FAVORITE DJ TAYLOR!
X-WR-RELCALID:95c6fd50f90625f371a5cd86642494d2
X-WR-TIMEZONE:America/Denver
BEGIN:VTIMEZONE
TZID:America/Denver
BEGIN:STANDARD
TZNAME:MST
DTSTART:20241103T020000
TZOFFSETFROM:-0600
TZOFFSETTO:-0700
RDATE:20251102T020000
RDATE:20261101T020000
END:STANDARD
BEGIN:DAYLIGHT
TZNAME:MDT
DTSTART:20250309T020000
TZOFFSETFROM:-0700
TZOFFSETTO:-0600
RDATE:20260308T020000
RDATE:20270314T020000
END:DAYLIGHT
END:VTIMEZONE
BEGIN:VEVENT
UID:56c48509-cf9b-4eea-935d-4183b61b4d05
DTSTAMP:20260421T005740Z
DESCRIPTION:Adults with DS Ages 18+ Halloween Dance\n\n6:30-8:30 PM\n\nLoca
 tion is usual church building as past activities in South Jordan.\n\n$3 Re
 gistration Fee. Costumes suggested. Spooktacular treats provided.\n\nCOME 
 DANCE THE NIGHT AWAY WITH OUR FAVORITE DJ TAYLOR!
DTSTART;TZID=America/Denver:20251011T183000
DTEND;TZID=America/Denver:20251011T203000
LOCATION:11473 South Chapel View Drive\, South Jordan\, UT 84095 US
SUMMARY:Adults w/DS Ages 18+ Halloween Dance in So. Jordan
END:VEVENT
END:VCALENDAR
