BEGIN:VCALENDAR
VERSION:2.0
PRODID:-//www.udsf.org//NONSGML kigkonsult.se iCalcreator 2.30.10//
CALSCALE:GREGORIAN
METHOD:PUBLISH
UID:65e89a2f-459f-4fd9-9fca-b81c77e91bbc
X-WR-CALDESC:Join us for our Davis County Down syndrome summer swim party!!
 \nīnī\nWe will have treats to share!!\nHope to see you there!!
X-WR-RELCALID:982a9d389c2037272a1138c06a5b8b03
X-WR-TIMEZONE:America/Chicago
BEGIN:VTIMEZONE
TZID:America/Chicago
BEGIN:STANDARD
TZNAME:CST
DTSTART:20181104T020000
TZOFFSETFROM:-0500
TZOFFSETTO:-0600
RDATE:20191103T020000
RDATE:20201101T020000
END:STANDARD
BEGIN:DAYLIGHT
TZNAME:CDT
DTSTART:20190310T020000
TZOFFSETFROM:-0600
TZOFFSETTO:-0500
RDATE:20200308T020000
END:DAYLIGHT
END:VTIMEZONE
BEGIN:VEVENT
UID:40d858d9-db28-4a9d-9bf4-797232c3d180
DTSTAMP:20260421T002835Z
DESCRIPTION:Join us for our Davis County Down syndrome summer swim party!!
 \nīnī\nWe will have treats to share!!\nHope to see you there!!
DTSTART;TZID=America/Chicago:20190806T183000
DTEND;TZID=America/Chicago:20190806T213000
LOCATION:2977 W 5200 S Roy\, UT 84067
SUMMARY:Davis County Community Swim Party
END:VEVENT
END:VCALENDAR
