BEGIN:VCALENDAR
VERSION:2.0
PRODID:-//www.udsf.org//NONSGML kigkonsult.se iCalcreator 2.30.10//
CALSCALE:GREGORIAN
METHOD:PUBLISH
UID:a726d2e9-9a87-44bb-b265-5d2b9a3f8e68
X-WR-CALDESC:
X-WR-RELCALID:79a2d833c0e25f3ff0714f62ab41dcb0
X-WR-TIMEZONE:America/Chicago
BEGIN:VTIMEZONE
TZID:America/Chicago
BEGIN:STANDARD
TZNAME:CST
DTSTART:20181104T020000
TZOFFSETFROM:-0500
TZOFFSETTO:-0600
RDATE:20191103T020000
RDATE:20201101T020000
END:STANDARD
BEGIN:DAYLIGHT
TZNAME:CDT
DTSTART:20190310T020000
TZOFFSETFROM:-0600
TZOFFSETTO:-0500
RDATE:20200308T020000
END:DAYLIGHT
END:VTIMEZONE
BEGIN:VEVENT
UID:defe05c6-cbff-4f9e-86ed-0e95e093bd70
DTSTAMP:20260421T002258Z
DESCRIPTION:
DTSTART;TZID=America/Chicago:20190813T000000
DTEND;TZID=America/Chicago:20190813T235900
LOCATION:Lagoon Amusement Park 375 North Lagoon Drive Farmington\, UT
SUMMARY:Lagoon Day
END:VEVENT
END:VCALENDAR
