BEGIN:VCALENDAR
VERSION:2.0
PRODID:-//www.udsf.org//NONSGML kigkonsult.se iCalcreator 2.30.10//
CALSCALE:GREGORIAN
METHOD:PUBLISH
UID:84932c69-ef55-4460-b183-48e233c6243d
X-WR-CALDESC:Presenters TBA
X-WR-RELCALID:5f5882eb3f3717d7a3747a2cf4fb426f
X-WR-TIMEZONE:America/Chicago
BEGIN:VTIMEZONE
TZID:America/Chicago
BEGIN:STANDARD
TZNAME:CST
DTSTART:20181104T020000
TZOFFSETFROM:-0500
TZOFFSETTO:-0600
RDATE:20191103T020000
RDATE:20201101T020000
END:STANDARD
BEGIN:DAYLIGHT
TZNAME:CDT
DTSTART:20190310T020000
TZOFFSETFROM:-0600
TZOFFSETTO:-0500
RDATE:20200308T020000
END:DAYLIGHT
END:VTIMEZONE
BEGIN:VEVENT
UID:98efa685-390d-43cd-9a2d-62916c89f64b
DTSTAMP:20260421T002548Z
DESCRIPTION:Presenters TBA
DTSTART;TZID=America/Chicago:20190817T100000
DTEND;TZID=America/Chicago:20190817T120000
LOCATION:Doty Family Education Center Building 6 Intermountain Medical Cent
 er 5121 S Cottonwood St\, Murray UT
SUMMARY:New Parent Breakfast
END:VEVENT
END:VCALENDAR
