BEGIN:VCALENDAR
VERSION:2.0
PRODID:-//www.udsf.org//NONSGML kigkonsult.se iCalcreator 2.30.10//
CALSCALE:GREGORIAN
METHOD:PUBLISH
UID:2b27a210-e73c-44db-a7d4-c51c2cb17821
X-WR-CALDESC:All mothers of a child with Down syndrome are invited
X-WR-RELCALID:49bd9b0d70e2b1afc3e5dabd665d31fa
X-WR-TIMEZONE:America/Chicago
BEGIN:VTIMEZONE
TZID:America/Chicago
BEGIN:STANDARD
TZNAME:CST
DTSTART:20181104T020000
TZOFFSETFROM:-0500
TZOFFSETTO:-0600
RDATE:20191103T020000
RDATE:20201101T020000
END:STANDARD
BEGIN:DAYLIGHT
TZNAME:CDT
DTSTART:20190310T020000
TZOFFSETFROM:-0600
TZOFFSETTO:-0500
RDATE:20200308T020000
END:DAYLIGHT
END:VTIMEZONE
BEGIN:VEVENT
UID:d004ed1e-4ce8-41d2-82c7-804cbad282a9
DTSTAMP:20260421T001739Z
DESCRIPTION:All mothers of a child with Down syndrome are invited
DTSTART;TZID=America/Chicago:20190821T130000
DTEND;TZID=America/Chicago:20190821T143000
LOCATION:Stellas Bistro 2432 W 1700 S\, Suite #A1\, Syracuse
SUMMARY:Mother's Luncheon
END:VEVENT
END:VCALENDAR
