BEGIN:VCALENDAR
VERSION:2.0
PRODID:-//www.udsf.org//NONSGML kigkonsult.se iCalcreator 2.30.10//
CALSCALE:GREGORIAN
METHOD:PUBLISH
UID:90a36d4f-4ae9-4ca9-b803-94c004651b1c
X-WR-CALDESC:Individuals with Down syndrome\, families\, and friends...Come
  join UDSF for a bike race in Park City at the Summit Challenge sponsored 
 by the National Abilities Center. UDSF will ride the 'Discovery Loop' toge
 ther at 1:00 pm\, which is one mile and free for all ages. UDSF will provi
 de team T-shirts and the NAC will provide an ice pop or ice cream sandwich
  to all riders.
X-WR-RELCALID:74151c21d437e08c6df251b67b2e7381
X-WR-TIMEZONE:America/Denver
BEGIN:VTIMEZONE
TZID:America/Denver
BEGIN:STANDARD
TZNAME:MST
DTSTART:20181104T020000
TZOFFSETFROM:-0600
TZOFFSETTO:-0700
RDATE:20191103T020000
RDATE:20201101T020000
END:STANDARD
BEGIN:DAYLIGHT
TZNAME:MDT
DTSTART:20190310T020000
TZOFFSETFROM:-0700
TZOFFSETTO:-0600
RDATE:20200308T020000
END:DAYLIGHT
END:VTIMEZONE
BEGIN:VEVENT
UID:1bdca21a-4d85-42a4-9a97-bcbf211095df
DTSTAMP:20260421T002724Z
DESCRIPTION:Individuals with Down syndrome\, families\, and friends...Come 
 join UDSF for a bike race in Park City at the Summit Challenge sponsored b
 y the National Abilities Center. UDSF will ride the 'Discovery Loop' toget
 her at 1:00 pm\, which is one mile and free for all ages. UDSF will provid
 e team T-shirts and the NAC will provide an ice pop or ice cream sandwich 
 to all riders.
DTSTART;TZID=America/Denver:20190824T130000
DTEND;TZID=America/Denver:20190824T160000
LOCATION:The National Ability Center is located at 1000 Ability Way\, Park 
 City\, UT 84060
SUMMARY:Summit Challenge Bike Race
END:VEVENT
END:VCALENDAR
