BEGIN:VCALENDAR
VERSION:2.0
PRODID:-//www.udsf.org//NONSGML kigkonsult.se iCalcreator 2.30.10//
CALSCALE:GREGORIAN
METHOD:PUBLISH
UID:6d7b2791-171d-4b9a-9fe4-6944f1385b14
X-WR-CALDESC:
X-WR-RELCALID:35c55e970ca51d0952df8167d7e679bd
X-WR-TIMEZONE:America/Chicago
BEGIN:VTIMEZONE
TZID:America/Chicago
BEGIN:STANDARD
TZNAME:CST
DTSTART:20181104T020000
TZOFFSETFROM:-0500
TZOFFSETTO:-0600
RDATE:20191103T020000
RDATE:20201101T020000
END:STANDARD
BEGIN:DAYLIGHT
TZNAME:CDT
DTSTART:20190310T020000
TZOFFSETFROM:-0600
TZOFFSETTO:-0500
RDATE:20200308T020000
END:DAYLIGHT
END:VTIMEZONE
BEGIN:VEVENT
UID:0292fbed-dd25-4e7a-99e9-d7e0deda7ab3
DTSTAMP:20260420T225747Z
DESCRIPTION:
DTSTART;TZID=America/Chicago:20190907T100000
DTEND;TZID=America/Chicago:20190907T130000
LOCATION:Heritage Park Farmington
SUMMARY:Mighty Steps Walk Davis County
END:VEVENT
END:VCALENDAR
