BEGIN:VCALENDAR
VERSION:2.0
PRODID:-//www.udsf.org//NONSGML kigkonsult.se iCalcreator 2.30.10//
CALSCALE:GREGORIAN
METHOD:PUBLISH
UID:7eee3141-e51a-4795-8e94-0ab1784ca89d
X-WR-CALDESC:9300 Riverside Dr.\, Sandy
X-WR-RELCALID:0dd6bbf02e0b5bf995a83c839238d98b
X-WR-TIMEZONE:America/Chicago
BEGIN:VTIMEZONE
TZID:America/Chicago
BEGIN:STANDARD
TZNAME:CST
DTSTART:20181104T020000
TZOFFSETFROM:-0500
TZOFFSETTO:-0600
RDATE:20191103T020000
RDATE:20201101T020000
END:STANDARD
BEGIN:DAYLIGHT
TZNAME:CDT
DTSTART:20190310T020000
TZOFFSETFROM:-0600
TZOFFSETTO:-0500
RDATE:20200308T020000
RDATE:20210314T020000
END:DAYLIGHT
END:VTIMEZONE
BEGIN:VEVENT
UID:b6d7e84b-233b-412b-ad96-6fd47c73f7ce
DTSTAMP:20260420T231016Z
DESCRIPTION:9300 Riverside Dr.\, Sandy
DTSTART;TZID=America/Chicago:20190913T073000
DTEND;TZID=America/Chicago:20190913T130000
LOCATION:River Oaks Golf Course
SUMMARY:Cooper Bowden Golf Tournament
END:VEVENT
END:VCALENDAR
