BEGIN:VCALENDAR
VERSION:2.0
PRODID:-//www.udsf.org//NONSGML kigkonsult.se iCalcreator 2.30.10//
CALSCALE:GREGORIAN
METHOD:PUBLISH
UID:d2d3707d-97cf-4b39-bdb0-61eb448ec4a3
X-WR-CALDESC:
X-WR-RELCALID:4194f9bf54e67b48633b9343878a1b7d
X-WR-TIMEZONE:America/Chicago
BEGIN:VTIMEZONE
TZID:America/Chicago
BEGIN:STANDARD
TZNAME:CST
DTSTART:20181104T020000
TZOFFSETFROM:-0500
TZOFFSETTO:-0600
RDATE:20191103T020000
RDATE:20201101T020000
END:STANDARD
BEGIN:DAYLIGHT
TZNAME:CDT
DTSTART:20190310T020000
TZOFFSETFROM:-0600
TZOFFSETTO:-0500
RDATE:20200308T020000
RDATE:20210314T020000
END:DAYLIGHT
END:VTIMEZONE
BEGIN:VEVENT
UID:86c4f1ef-7c2c-49e8-931f-2afe8d88b300
DTSTAMP:20260420T230630Z
DESCRIPTION:
DTSTART;TZID=America/Chicago:20190928T103000
DTEND;TZID=America/Chicago:20190928T130000
LOCATION:Rio Tinto Stadium
SUMMARY:Mighty Steps Walk Metro
END:VEVENT
END:VCALENDAR
