BEGIN:VCALENDAR
VERSION:2.0
PRODID:-//www.udsf.org//NONSGML kigkonsult.se iCalcreator 2.30.10//
CALSCALE:GREGORIAN
METHOD:PUBLISH
UID:cccc6505-1d29-477a-9f5a-a5e22d9e75a8
X-WR-CALDESC:Calling all ghosts & goblins\, super heroes & princesses\, wit
 ches & rock stars\, furry friends & cartoon characters. Join us for a frig
 htfully fun evening! A dinner of Witch Soup & Graveyard Pudding will be fo
 llowed by some spooktacular games & activities.
X-WR-RELCALID:95a081c8a97c1ff0e7de29c0bed96de1
X-WR-TIMEZONE:America/Denver
BEGIN:VTIMEZONE
TZID:America/Denver
BEGIN:STANDARD
TZNAME:MST
DTSTART:20181104T020000
TZOFFSETFROM:-0600
TZOFFSETTO:-0700
RDATE:20191103T020000
RDATE:20201101T020000
END:STANDARD
BEGIN:DAYLIGHT
TZNAME:MDT
DTSTART:20190310T020000
TZOFFSETFROM:-0700
TZOFFSETTO:-0600
RDATE:20200308T020000
RDATE:20210314T020000
END:DAYLIGHT
END:VTIMEZONE
BEGIN:VEVENT
UID:a39f953c-9ac0-42d6-8bb2-eccb7754cab3
DTSTAMP:20260420T212238Z
DESCRIPTION:Calling all ghosts & goblins\, super heroes & princesses\, witc
 hes & rock stars\, furry friends & cartoon characters. Join us for a frigh
 tfully fun evening! A dinner of Witch Soup & Graveyard Pudding will be fol
 lowed by some spooktacular games & activities.
DTSTART;TZID=America/Denver:20191025T180000
DTEND;TZID=America/Denver:20191025T200000
LOCATION:11473 South Chapel View Drive\, South Jordan\, UT 84095
SUMMARY:YA (18+) Halloween Party
END:VEVENT
END:VCALENDAR
