BEGIN:VCALENDAR
VERSION:2.0
PRODID:-//www.udsf.org//NONSGML kigkonsult.se iCalcreator 2.30.10//
CALSCALE:GREGORIAN
METHOD:PUBLISH
UID:ae5b871a-512f-48d8-8b7c-3d16e374f649
X-WR-CALDESC:Fun & Games inside until 6:30 pm followed by Trunk of Treating
  in the parking lot.
X-WR-RELCALID:3113522a40298f10503472bec470f133
X-WR-TIMEZONE:America/Denver
BEGIN:VTIMEZONE
TZID:America/Denver
BEGIN:STANDARD
TZNAME:MST
DTSTART:20181104T020000
TZOFFSETFROM:-0600
TZOFFSETTO:-0700
RDATE:20191103T020000
RDATE:20201101T020000
END:STANDARD
BEGIN:DAYLIGHT
TZNAME:MDT
DTSTART:20190310T020000
TZOFFSETFROM:-0700
TZOFFSETTO:-0600
RDATE:20200308T020000
RDATE:20210314T020000
END:DAYLIGHT
END:VTIMEZONE
BEGIN:VEVENT
UID:0d702331-78e3-461a-97ff-984621acdab9
DTSTAMP:20260420T212239Z
DESCRIPTION:Fun & Games inside until 6:30 pm followed by Trunk of Treating 
 in the parking lot.
DTSTART;TZID=America/Denver:20191026T170000
DTEND;TZID=America/Denver:20191026T190000
LOCATION:Church Building 180 South 485 West Providence\, Ut
SUMMARY:Cache County Halloween Party
END:VEVENT
END:VCALENDAR
