BEGIN:VCALENDAR
VERSION:2.0
PRODID:-//www.udsf.org//NONSGML kigkonsult.se iCalcreator 2.30.10//
CALSCALE:GREGORIAN
METHOD:PUBLISH
UID:23fe89d2-e63b-47e9-b39e-4e7a44863661
X-WR-CALDESC:DINNER\n(Cowboy beans and franks\, cornbread\, green salad\, c
 hocolate chip cookies)\nLINE DANCING\n(Be prepared to step it up with Beck
 y Corwell!)\n \nPlease register and pay $5.00 by Wednesday\, November 15th
 .\nThis activity is for adults with Down syndrome age 18 and up.
X-WR-RELCALID:cc6c03b31a9feb90b5b6693fb21d4970
X-WR-TIMEZONE:America/Chicago
BEGIN:VTIMEZONE
TZID:America/Chicago
BEGIN:STANDARD
TZNAME:CST
DTSTART:20191103T020000
TZOFFSETFROM:-0500
TZOFFSETTO:-0600
RDATE:20201101T020000
END:STANDARD
BEGIN:DAYLIGHT
TZNAME:CDT
DTSTART:20190310T020000
TZOFFSETFROM:-0600
TZOFFSETTO:-0500
RDATE:20200308T020000
RDATE:20210314T020000
END:DAYLIGHT
END:VTIMEZONE
BEGIN:VEVENT
UID:45e509c7-960e-4131-acfa-56fc1c4e9509
DTSTAMP:20260420T194018Z
DESCRIPTION:DINNER\n(Cowboy beans and franks\, cornbread\, green salad\, ch
 ocolate chip cookies)\nLINE DANCING\n(Be prepared to step it up with Becky
  Corwell!)\n \nPlease register and pay $5.00 by Wednesday\, November 15th.
 \nThis activity is for adults with Down syndrome age 18 and up.
DTSTART;TZID=America/Chicago:20191115T180000
DTEND;TZID=America/Chicago:20191115T200000
LOCATION:11473 South Chapel View Dr.\, South Jordan
SUMMARY:YA (18+) Fall Hoedown Party
END:VEVENT
END:VCALENDAR
