BEGIN:VCALENDAR
VERSION:2.0
PRODID:-//www.udsf.org//NONSGML kigkonsult.se iCalcreator 2.30.10//
CALSCALE:GREGORIAN
METHOD:PUBLISH
UID:836fedca-c08d-49d7-b960-ed4f85a044b9
X-WR-CALDESC:Sammantha Stens\, a child development specialist with DDI Vant
 age\, will be talking about the development of speech and strategies that 
 families can use during simple daily routines to encourage your child to g
 ain communication skills. She will teach us ways to explore how play is th
 e best and the most fun to positively promote skills in all areas of devel
 opment at home.\n \nSadie Herring and Family will be talking about how Dow
 n syndrome has changed their lives. They will share with us their journey 
 and the many amazing friends they have made since Madi was born and the bl
 essings that those people have been in their lives.  They will talk about 
 how Madi has lead their family down the path to the adoption of Bennett.\n
 \n
X-WR-RELCALID:af61bc065ea9f93283f95b173043aa81
X-WR-TIMEZONE:America/Denver
BEGIN:VTIMEZONE
TZID:America/Denver
BEGIN:STANDARD
TZNAME:MST
DTSTART:20191103T020000
TZOFFSETFROM:-0600
TZOFFSETTO:-0700
RDATE:20201101T020000
END:STANDARD
BEGIN:DAYLIGHT
TZNAME:MDT
DTSTART:20190310T020000
TZOFFSETFROM:-0700
TZOFFSETTO:-0600
RDATE:20200308T020000
RDATE:20210314T020000
END:DAYLIGHT
END:VTIMEZONE
BEGIN:VEVENT
UID:de91ca2e-b14e-481e-9ac3-eb470f3385fd
DTSTAMP:20260420T194018Z
DESCRIPTION:Sammantha Stens\, a child development specialist with DDI Vanta
 ge\, will be talking about the development of speech and strategies that f
 amilies can use during simple daily routines to encourage your child to ga
 in communication skills. She will teach us ways to explore how play is the
  best and the most fun to positively promote skills in all areas of develo
 pment at home.\n \nSadie Herring and Family will be talking about how Down
  syndrome has changed their lives. They will share with us their journey a
 nd the many amazing friends they have made since Madi was born and the ble
 ssings that those people have been in their lives.  They will talk about h
 ow Madi has lead their family down the path to the adoption of Bennett.\n
 \n
DTSTART;TZID=America/Denver:20191123T100000
DTEND;TZID=America/Denver:20191123T120000
LOCATION:Doty Family Education Center  Intermountain Medical Center 5121 S 
 Cottonwood St. Murray\, Ut
SUMMARY:New Parent Breakfast
END:VEVENT
END:VCALENDAR
