BEGIN:VCALENDAR
VERSION:2.0
PRODID:-//www.udsf.org//NONSGML kigkonsult.se iCalcreator 2.30.10//
CALSCALE:GREGORIAN
METHOD:PUBLISH
UID:4efec879-db9d-4168-aff3-3f1deb8e6d2e
X-WR-CALDESC:Join UDSF's Utah County Community Group holiday party\, and wi
 tness the new and exciting adventures of Elsa the Snow Queen and her siste
 r Anna as they embark on an adventure far away from the kingdom of Arendel
 le\, in Disney's Frozen 2\, Rated PG.\n\nCheck-in starts at 8:40 AM in the
  lobby\,  the show runs from 9:00 - 11:00 AM\nTickets are free for those w
 ith Down syndrome and $2 for friends and family (seats are limited)\n\nAcc
 ording to the Raising Children Network\, 'Frozen is a Disney animated musi
 cal adventure suitable for families and most children over five years. The
  movie entertains from start to finish\, but it does have some scary scene
 s and characters that might disturb younger viewers. It isn't recommended 
 for children under five years.' Run time is 2 hours.\n\nUDSF does not nece
 ssarily support the views or opinions portrayed in this film or by the Wal
 t Disney Company.
X-WR-RELCALID:4cb1250a6dcc54a41fa5390dbd67095b
X-WR-TIMEZONE:America/Denver
BEGIN:VTIMEZONE
TZID:America/Denver
BEGIN:STANDARD
TZNAME:MST
DTSTART:20191103T020000
TZOFFSETFROM:-0600
TZOFFSETTO:-0700
RDATE:20201101T020000
END:STANDARD
BEGIN:DAYLIGHT
TZNAME:MDT
DTSTART:20190310T020000
TZOFFSETFROM:-0700
TZOFFSETTO:-0600
RDATE:20200308T020000
RDATE:20210314T020000
END:DAYLIGHT
END:VTIMEZONE
BEGIN:VEVENT
UID:86e305d4-4c43-490e-953b-abbf8b7f3cb2
DTSTAMP:20260420T194203Z
DESCRIPTION:Join UDSF's Utah County Community Group holiday party\, and wit
 ness the new and exciting adventures of Elsa the Snow Queen and her sister
  Anna as they embark on an adventure far away from the kingdom of Arendell
 e\, in Disney's Frozen 2\, Rated PG.\n\nCheck-in starts at 8:40 AM in the 
 lobby\,  the show runs from 9:00 - 11:00 AM\nTickets are free for those wi
 th Down syndrome and $2 for friends and family (seats are limited)\n\nAcco
 rding to the Raising Children Network\, 'Frozen is a Disney animated music
 al adventure suitable for families and most children over five years. The 
 movie entertains from start to finish\, but it does have some scary scenes
  and characters that might disturb younger viewers. It isn't recommended f
 or children under five years.' Run time is 2 hours.\n\nUDSF does not neces
 sarily support the views or opinions portrayed in this film or by the Walt
  Disney Company.
DTSTART;TZID=America/Denver:20191123T083000
DTEND;TZID=America/Denver:20191123T110000
LOCATION:Water Gardens Theater 912 Garden Dr. Pleasant Grove\, 84062
SUMMARY:Utah County Movie Morning (SOLD OUT)
END:VEVENT
END:VCALENDAR
