BEGIN:VCALENDAR
VERSION:2.0
PRODID:-//www.udsf.org//NONSGML kigkonsult.se iCalcreator 2.30.10//
CALSCALE:GREGORIAN
METHOD:PUBLISH
UID:fa3e8140-07d3-421a-9b53-e6b9e12ea709
X-WR-CALDESC:Your stories have inspired UDSF! This holiday season we are as
 king every family to donate a story. Specifically\, share a moment when th
 e generosity of someone made a difference in the life of your loved one wi
 th Down syndrome or when the generosity of your loved one with Down syndro
 me helped someone else. \n   Submit your story to the MyGivingStory contes
 t sponsored by #GivingTuesday. The 20 non-profits that have the most votes
  for a story will be eligible to win grant money up to $10\,000. In additi
 on\, the nonprofit that has the most story submissions can also win valuab
 le grants. UDSF's goal is to win in both categories so it can use the awar
 ded grant money to strengthen existing UDSF programs as well as create new
  ones for individuals with Down syndrome and their families.\n\nHow to Sub
 mit Your Story:\n1) Go to the MyGivingStory website by clicking the link b
 elow.\n2) Once on the MyGivingStory website\, click the green 'Enter Now' 
 button.\n3) Enter your personal information.\n4) List UDSF as your chosen 
 nonprofit organization and include UDSF's website (udsf.org)\, our city (S
 alt Lake City)\, our state (Utah)\, and our zipcode (84110) *Your story do
 es not need to be about UDSF for UDSF to be your chosen nonprofit.\n5) Upl
 oad your 200 to 500-word essay with a picture of video then click submit.
 \n6) Once your story has been submitted\, you will receive an email from M
 yGivingStory with a link to your story.\n7) Share this link with friends a
 nd family and post it on social media. Encourage others to vote through De
 cember 10th for your story as well as for other UDSF stories.\n\n   If you
  don't want to submit your story\, you can still give by voting for the UD
 SF stories submitted by others. You can vote once a day\, everyday\, for e
 ach UDSF story until December 10th.\n\nHow to Vote:\n1) Click the link bel
 ow.\n2) Scroll down to the gallery of stories.\n3) Type UDSF in the search
  bar.\n4) Click the green vote box for each UDSF story.\n5) Use the button
  to share the story on your social media and encourage others to vote.\n6)
  Repeat for other UDSF stories.\n\nEach voter can vote for as many stories
  as they like in a given day\, and can come back each day and vote for mor
 e stories and/or vote again for the same ones. The only limit is that each
  voter can vote for any particular story only once each day.\n
X-WR-RELCALID:80acf895e1ae8a4ec7a641e2264d7af5
X-WR-TIMEZONE:America/Denver
BEGIN:VTIMEZONE
TZID:America/Denver
BEGIN:STANDARD
TZNAME:MST
DTSTART:20191103T020000
TZOFFSETFROM:-0600
TZOFFSETTO:-0700
RDATE:20201101T020000
END:STANDARD
BEGIN:DAYLIGHT
TZNAME:MDT
DTSTART:20190310T020000
TZOFFSETFROM:-0700
TZOFFSETTO:-0600
RDATE:20200308T020000
RDATE:20210314T020000
END:DAYLIGHT
END:VTIMEZONE
BEGIN:VEVENT
UID:404f6f3c-65c8-4ec1-a969-1e5aa7e61343
DTSTAMP:20260420T180431Z
DESCRIPTION:Your stories have inspired UDSF! This holiday season we are ask
 ing every family to donate a story. Specifically\, share a moment when the
  generosity of someone made a difference in the life of your loved one wit
 h Down syndrome or when the generosity of your loved one with Down syndrom
 e helped someone else. \n   Submit your story to the MyGivingStory contest
  sponsored by #GivingTuesday. The 20 non-profits that have the most votes 
 for a story will be eligible to win grant money up to $10\,000. In additio
 n\, the nonprofit that has the most story submissions can also win valuabl
 e grants. UDSF's goal is to win in both categories so it can use the award
 ed grant money to strengthen existing UDSF programs as well as create new 
 ones for individuals with Down syndrome and their families.\n\nHow to Subm
 it Your Story:\n1) Go to the MyGivingStory website by clicking the link be
 low.\n2) Once on the MyGivingStory website\, click the green 'Enter Now' b
 utton.\n3) Enter your personal information.\n4) List UDSF as your chosen n
 onprofit organization and include UDSF's website (udsf.org)\, our city (Sa
 lt Lake City)\, our state (Utah)\, and our zipcode (84110) *Your story doe
 s not need to be about UDSF for UDSF to be your chosen nonprofit.\n5) Uplo
 ad your 200 to 500-word essay with a picture of video then click submit.\n
 6) Once your story has been submitted\, you will receive an email from MyG
 ivingStory with a link to your story.\n7) Share this link with friends and
  family and post it on social media. Encourage others to vote through Dece
 mber 10th for your story as well as for other UDSF stories.\n\n   If you d
 on't want to submit your story\, you can still give by voting for the UDSF
  stories submitted by others. You can vote once a day\, everyday\, for eac
 h UDSF story until December 10th.\n\nHow to Vote:\n1) Click the link below
 .\n2) Scroll down to the gallery of stories.\n3) Type UDSF in the search b
 ar.\n4) Click the green vote box for each UDSF story.\n5) Use the button t
 o share the story on your social media and encourage others to vote.\n6) R
 epeat for other UDSF stories.\n\nEach voter can vote for as many stories a
 s they like in a given day\, and can come back each day and vote for more 
 stories and/or vote again for the same ones. The only limit is that each v
 oter can vote for any particular story only once each day.\n
DTSTART;TZID=America/Denver:20191203T000000
DTEND;TZID=America/Denver:20191203T235900
LOCATION:
SUMMARY:Giving Tuesday
END:VEVENT
END:VCALENDAR
