BEGIN:VCALENDAR
VERSION:2.0
PRODID:-//www.udsf.org//NONSGML kigkonsult.se iCalcreator 2.30.10//
CALSCALE:GREGORIAN
METHOD:PUBLISH
UID:9412fa43-6c2d-4422-8639-9b4fb660dce2
X-WR-CALDESC:Registration for this event has closed. For questions contact 
 Kaydee McMahon.
X-WR-RELCALID:c6ee3fbc5922b00effd71ddca13d42ce
X-WR-TIMEZONE:America/Denver
BEGIN:VTIMEZONE
TZID:America/Denver
BEGIN:STANDARD
TZNAME:MST
DTSTART:20191103T020000
TZOFFSETFROM:-0600
TZOFFSETTO:-0700
RDATE:20201101T020000
END:STANDARD
BEGIN:DAYLIGHT
TZNAME:MDT
DTSTART:20190310T020000
TZOFFSETFROM:-0700
TZOFFSETTO:-0600
RDATE:20200308T020000
RDATE:20210314T020000
END:DAYLIGHT
END:VTIMEZONE
BEGIN:VEVENT
UID:f1f06508-e1ff-41ea-8589-f2f5b208ebf9
DTSTAMP:20260420T180109Z
DESCRIPTION:Registration for this event has closed. For questions contact K
 aydee McMahon.
DTSTART;TZID=America/Denver:20191205T193000
DTEND;TZID=America/Denver:20191205T220000
LOCATION:Mt. Jordan Middle School
SUMMARY:Nutcracker Ballet (Registration Closed)
END:VEVENT
END:VCALENDAR
