BEGIN:VCALENDAR
VERSION:2.0
PRODID:-//www.udsf.org//NONSGML kigkonsult.se iCalcreator 2.30.10//
CALSCALE:GREGORIAN
METHOD:PUBLISH
UID:2d95b77e-8ae4-4546-8545-8337016bf9bf
X-WR-CALDESC:Christmas is just around the corner!  Join us for a celebratio
 n of the holiday season!\n\nFollowing a yummy Christmas dinner\, we will b
 e decorating candy houses.  You can enjoy your creations throughout the ho
 liday season--if you can refrain from eating them!   \n\nThis event is for
  those with Down syndrome ages 18+.\n\nTo register text GINGERHOUSE to 414
 44 or click the registration link below.\nPlease register and pay $5 by We
 dnesday\, December 4th. \nQuestions--text or call Ann Marie at 801-330-990
 7
X-WR-RELCALID:680497bbd8bc88d41c2a91b107869db8
X-WR-TIMEZONE:America/Denver
BEGIN:VTIMEZONE
TZID:America/Denver
BEGIN:STANDARD
TZNAME:MST
DTSTART:20191103T020000
TZOFFSETFROM:-0600
TZOFFSETTO:-0700
RDATE:20201101T020000
END:STANDARD
BEGIN:DAYLIGHT
TZNAME:MDT
DTSTART:20190310T020000
TZOFFSETFROM:-0700
TZOFFSETTO:-0600
RDATE:20200308T020000
RDATE:20210314T020000
END:DAYLIGHT
END:VTIMEZONE
BEGIN:VEVENT
UID:e8b94a2e-5b64-4de3-8f46-2aee9932c0ef
DTSTAMP:20260420T175833Z
DESCRIPTION:Christmas is just around the corner!  Join us for a celebration
  of the holiday season!\n\nFollowing a yummy Christmas dinner\, we will be
  decorating candy houses.  You can enjoy your creations throughout the hol
 iday season--if you can refrain from eating them!   \n\nThis event is for 
 those with Down syndrome ages 18+.\n\nTo register text GINGERHOUSE to 4144
 4 or click the registration link below.\nPlease register and pay $5 by Wed
 nesday\, December 4th. \nQuestions--text or call Ann Marie at 801-330-9907
DTSTART;TZID=America/Denver:20191206T180000
DTEND;TZID=America/Denver:20191206T200000
LOCATION:11473 South Chapel View Dr.\, South Jordan
SUMMARY:YA (18+) Holiday Party
END:VEVENT
END:VCALENDAR
