BEGIN:VCALENDAR
VERSION:2.0
PRODID:-//www.udsf.org//NONSGML kigkonsult.se iCalcreator 2.30.10//
CALSCALE:GREGORIAN
METHOD:PUBLISH
UID:778a1005-bf79-424a-a179-352960251a70
X-WR-CALDESC:Join us for a Christmas T (21) Party. UDSF will provide dinner
 \, dessert\, and refreshing and hot drinks. Wear your best fascinator head
 piece or fancy hat (think Princess Kate\, British royalty). This is option
 al but prizes will be awarded for the most posh and pretty. And if you'd l
 ike to wear a fancy dress to match your fancy hat then we invite you to do
  so. After all\, it is a tea party. For the gift exchange\, bring a set of
  tea towels (dish towels) of any color\, holiday\, nonholiday pattern or p
 rint. A set usually includes 1-3 towels. (TJ Maxx\, Target\, Home Goods\, 
 etc. are good places to find a great variety and at a fair price. Please s
 pend no more than $10.) We ask that you RSVP for this event so we can get 
 an accurate count for food. There is no cost to you for the food but pleas
 e be courteous and know that we are counting on you if you register. Deadl
 ine for RSVP's will be Monday\, December 9th.
X-WR-RELCALID:a856f3eaa9f09a25dc3b291635facca8
X-WR-TIMEZONE:America/Denver
BEGIN:VTIMEZONE
TZID:America/Denver
BEGIN:STANDARD
TZNAME:MST
DTSTART:20191103T020000
TZOFFSETFROM:-0600
TZOFFSETTO:-0700
RDATE:20201101T020000
END:STANDARD
BEGIN:DAYLIGHT
TZNAME:MDT
DTSTART:20190310T020000
TZOFFSETFROM:-0700
TZOFFSETTO:-0600
RDATE:20200308T020000
RDATE:20210314T020000
END:DAYLIGHT
END:VTIMEZONE
BEGIN:VEVENT
UID:9aadf733-ac5d-4f79-b682-6e4784ee4820
DTSTAMP:20260420T180430Z
DESCRIPTION:Join us for a Christmas T (21) Party. UDSF will provide dinner\
 , dessert\, and refreshing and hot drinks. Wear your best fascinator headp
 iece or fancy hat (think Princess Kate\, British royalty). This is optiona
 l but prizes will be awarded for the most posh and pretty. And if you'd li
 ke to wear a fancy dress to match your fancy hat then we invite you to do 
 so. After all\, it is a tea party. For the gift exchange\, bring a set of 
 tea towels (dish towels) of any color\, holiday\, nonholiday pattern or pr
 int. A set usually includes 1-3 towels. (TJ Maxx\, Target\, Home Goods\, e
 tc. are good places to find a great variety and at a fair price. Please sp
 end no more than $10.) We ask that you RSVP for this event so we can get a
 n accurate count for food. There is no cost to you for the food but please
  be courteous and know that we are counting on you if you register. Deadli
 ne for RSVP's will be Monday\, December 9th.
DTSTART;TZID=America/Denver:20191211T190000
DTEND;TZID=America/Denver:20191211T203000
LOCATION:4551 W Sebago Way\, South Jordan UT 84095
SUMMARY:Mom's Night Out Holiday T(21) Party
END:VEVENT
END:VCALENDAR
