BEGIN:VCALENDAR
VERSION:2.0
PRODID:-//www.udsf.org//NONSGML kigkonsult.se iCalcreator 2.30.10//
CALSCALE:GREGORIAN
METHOD:PUBLISH
UID:9e44ce58-3cd0-4c5c-b689-c1e5b47bf6b9
X-WR-CALDESC:635 South Riverwoods Parkway Logan Utah 84321\n\n\n
X-WR-RELCALID:bf3bba957416ddf2ed96849238b6ba3d
X-WR-TIMEZONE:America/Denver
BEGIN:VTIMEZONE
TZID:America/Denver
BEGIN:STANDARD
TZNAME:MST
DTSTART:20191103T020000
TZOFFSETFROM:-0600
TZOFFSETTO:-0700
RDATE:20201101T020000
END:STANDARD
BEGIN:DAYLIGHT
TZNAME:MDT
DTSTART:20190310T020000
TZOFFSETFROM:-0700
TZOFFSETTO:-0600
RDATE:20200308T020000
RDATE:20210314T020000
END:DAYLIGHT
END:VTIMEZONE
BEGIN:VEVENT
UID:165b0a13-6f5f-4115-92e5-0a761ca9e1a1
DTSTAMP:20260420T180511Z
DESCRIPTION:635 South Riverwoods Parkway Logan Utah 84321\n\n\n
DTSTART;TZID=America/Denver:20191214T090000
DTEND;TZID=America/Denver:20191214T110000
LOCATION:SpringHill Suites by Marriott
SUMMARY:Cache Valley Kindergarten Kickoff Class
END:VEVENT
END:VCALENDAR
