BEGIN:VCALENDAR
VERSION:2.0
PRODID:-//www.udsf.org//NONSGML kigkonsult.se iCalcreator 2.30.10//
CALSCALE:GREGORIAN
METHOD:PUBLISH
UID:a0ad2c09-acfe-4c4e-ba00-905db1a2b523
X-WR-CALDESC:Come enjoy some dinner and family fun! With a special guest
X-WR-RELCALID:2511223101ed004319fd7d17c2ab91e1
X-WR-TIMEZONE:America/Denver
BEGIN:VTIMEZONE
TZID:America/Denver
BEGIN:STANDARD
TZNAME:MST
DTSTART:20191103T020000
TZOFFSETFROM:-0600
TZOFFSETTO:-0700
RDATE:20201101T020000
END:STANDARD
BEGIN:DAYLIGHT
TZNAME:MDT
DTSTART:20190310T020000
TZOFFSETFROM:-0700
TZOFFSETTO:-0600
RDATE:20200308T020000
RDATE:20210314T020000
END:DAYLIGHT
END:VTIMEZONE
BEGIN:VEVENT
UID:6df42f6e-3d52-41e4-a758-8180f0bd3f4c
DTSTAMP:20260420T180016Z
DESCRIPTION:Come enjoy some dinner and family fun! With a special guest
DTSTART;TZID=America/Denver:20191216T180000
DTEND;TZID=America/Denver:20191216T200000
LOCATION:St. George Children's Museum (3rd Floor) 86 S. Main St.\, St. Geor
 ge UT\, 84770
SUMMARY:Southern UT Holiday Party
END:VEVENT
END:VCALENDAR
