BEGIN:VCALENDAR
VERSION:2.0
PRODID:-//www.udsf.org//NONSGML kigkonsult.se iCalcreator 2.30.10//
CALSCALE:GREGORIAN
METHOD:PUBLISH
UID:88218c6a-ad9b-464d-9057-cc54f8d7d336
X-WR-CALDESC:Come kickoff the New Year with UDSF as we swim\, eat snacks an
 d make crafts!\n\nTickets:\nFREE for Individuals with Down syndrome\n$2.00
  for Adults (18+)\n$2.00 for youth (4-17)\nFREE for Infant/Toddlers (0-3)
X-WR-RELCALID:9fc8a8c585ff2c61c9bba3f6f5714217
X-WR-TIMEZONE:America/Denver
BEGIN:VTIMEZONE
TZID:America/Denver
BEGIN:STANDARD
TZNAME:MST
DTSTART:20191103T020000
TZOFFSETFROM:-0600
TZOFFSETTO:-0700
RDATE:20201101T020000
END:STANDARD
BEGIN:DAYLIGHT
TZNAME:MDT
DTSTART:20190310T020000
TZOFFSETFROM:-0700
TZOFFSETTO:-0600
RDATE:20200308T020000
RDATE:20210314T020000
END:DAYLIGHT
END:VTIMEZONE
BEGIN:VEVENT
UID:f99f29a8-3c4c-48ad-820e-34de5c63584a
DTSTAMP:20260420T162025Z
DESCRIPTION:Come kickoff the New Year with UDSF as we swim\, eat snacks and
  make crafts!\n\nTickets:\nFREE for Individuals with Down syndrome\n$2.00 
 for Adults (18+)\n$2.00 for youth (4-17)\nFREE for Infant/Toddlers (0-3)
DTSTART;TZID=America/Denver:20200111T160000
DTEND;TZID=America/Denver:20200111T180000
LOCATION:South Jordan Aquatic Center 10866 S Redwood Rd\, South Jordan\, UT
  84095
SUMMARY:SLC/Tooele Community Group Pool Party
END:VEVENT
END:VCALENDAR
