BEGIN:VCALENDAR
VERSION:2.0
PRODID:-//www.udsf.org//NONSGML kigkonsult.se iCalcreator 2.30.10//
CALSCALE:GREGORIAN
METHOD:PUBLISH
UID:9b9a1a9a-a154-41e5-8431-7cdc02f8afe7
X-WR-CALDESC:Come celebrate the New Year with your friends and be prepared 
 to Sing your Favorite Song!  Prizes for the lucky Bingo  winners! Refreshm
 ents for all! \n\n*Note later start time for this month's activity!*\n\nNo
  charge\, but please register by Wednesday\, January 15th\, so we can plan
  appropriately.\n\n(This event is for individuals with Down syndrome ages 
 18 and up.)
X-WR-RELCALID:a1676eb9f050420e8a068e4b0d11c9eb
X-WR-TIMEZONE:America/Denver
BEGIN:VTIMEZONE
TZID:America/Denver
BEGIN:STANDARD
TZNAME:MST
DTSTART:20191103T020000
TZOFFSETFROM:-0600
TZOFFSETTO:-0700
RDATE:20201101T020000
END:STANDARD
BEGIN:DAYLIGHT
TZNAME:MDT
DTSTART:20190310T020000
TZOFFSETFROM:-0700
TZOFFSETTO:-0600
RDATE:20200308T020000
RDATE:20210314T020000
END:DAYLIGHT
END:VTIMEZONE
BEGIN:VEVENT
UID:b4ecbfe5-6e5c-4ea3-a144-afe78cc6524c
DTSTAMP:20260420T162916Z
DESCRIPTION:Come celebrate the New Year with your friends and be prepared t
 o Sing your Favorite Song!  Prizes for the lucky Bingo  winners! Refreshme
 nts for all! \n\n*Note later start time for this month's activity!*\n\nNo 
 charge\, but please register by Wednesday\, January 15th\, so we can plan 
 appropriately.\n\n(This event is for individuals with Down syndrome ages 1
 8 and up.)
DTSTART;TZID=America/Denver:20200117T183000
DTEND;TZID=America/Denver:20200117T200000
LOCATION:LDS Church Building 11473 South Chapel View Dr.\, South Jordan
SUMMARY:YA (18+) Bingo & Karaoke
END:VEVENT
END:VCALENDAR
