BEGIN:VCALENDAR
VERSION:2.0
PRODID:-//www.udsf.org//NONSGML kigkonsult.se iCalcreator 2.30.10//
CALSCALE:GREGORIAN
METHOD:PUBLISH
UID:08840185-5648-4487-aa06-e410bc020eee
X-WR-CALDESC:Join your UDSF friends for a Valentine Dinner Dance. Wear your
  best/semi-formal dress\, enjoy good food and of course dancing!\n(this ev
 ent is for individuals with Down syndrome 18 years old and up)
X-WR-RELCALID:c4f34340b9ed662e2d6e6d7a05e5cc88
X-WR-TIMEZONE:America/Denver
BEGIN:VTIMEZONE
TZID:America/Denver
BEGIN:STANDARD
TZNAME:MST
DTSTART:20191103T020000
TZOFFSETFROM:-0600
TZOFFSETTO:-0700
RDATE:20201101T020000
END:STANDARD
BEGIN:DAYLIGHT
TZNAME:MDT
DTSTART:20190310T020000
TZOFFSETFROM:-0700
TZOFFSETTO:-0600
RDATE:20200308T020000
RDATE:20210314T020000
END:DAYLIGHT
END:VTIMEZONE
BEGIN:VEVENT
UID:27e27926-fde8-429b-9654-f311f44d0e30
DTSTAMP:20260420T144736Z
DESCRIPTION:Join your UDSF friends for a Valentine Dinner Dance. Wear your 
 best/semi-formal dress\, enjoy good food and of course dancing!\n(this eve
 nt is for individuals with Down syndrome 18 years old and up)
DTSTART;TZID=America/Denver:20200207T180000
DTEND;TZID=America/Denver:20200207T200000
LOCATION:11473 South Chapel View Dr.\, South Jordan
SUMMARY:YA(18+) Valentine Dinner Dance
END:VEVENT
END:VCALENDAR
