BEGIN:VCALENDAR
VERSION:2.0
PRODID:-//www.udsf.org//NONSGML kigkonsult.se iCalcreator 2.30.10//
CALSCALE:GREGORIAN
METHOD:PUBLISH
UID:4cdcde4e-e692-4e54-bf44-931cab4d5582
X-WR-CALDESC:Join other moms in the Davis county area as we chat and connec
 t about life and having children with Down syndrome.\n(you are responsible
  to pay for your own meal)
X-WR-RELCALID:f66a3855994d6f8791e524e9d26c7cb9
X-WR-TIMEZONE:America/Denver
BEGIN:VTIMEZONE
TZID:America/Denver
BEGIN:STANDARD
TZNAME:MST
DTSTART:20191103T020000
TZOFFSETFROM:-0600
TZOFFSETTO:-0700
RDATE:20201101T020000
END:STANDARD
BEGIN:DAYLIGHT
TZNAME:MDT
DTSTART:20200308T020000
TZOFFSETFROM:-0700
TZOFFSETTO:-0600
RDATE:20210314T020000
END:DAYLIGHT
END:VTIMEZONE
BEGIN:VEVENT
UID:5b644e14-c221-411c-948c-8f1d0ac5ae03
DTSTAMP:20260420T131151Z
DESCRIPTION:Join other moms in the Davis county area as we chat and connect
  about life and having children with Down syndrome.\n(you are responsible 
 to pay for your own meal)
DTSTART;TZID=America/Denver:20200318T130000
DTEND;TZID=America/Denver:20200318T140000
LOCATION:The Bird\, 2432 W 1700 S\, Syracuse\, UT 84075
SUMMARY:Davis County Moms Lunch
END:VEVENT
END:VCALENDAR
