BEGIN:VCALENDAR
VERSION:2.0
PRODID:-//www.udsf.org//NONSGML kigkonsult.se iCalcreator 2.30.10//
CALSCALE:GREGORIAN
METHOD:PUBLISH
UID:87bd8c73-c5d0-4a99-b83a-d5dbe2bd3f02
X-WR-CALDESC:Due to recommendations made by local leaders to help protect o
 ur community's health THIS EVENT HAS BEEN CANCELLED. For questions or conc
 erns please contact us at programs@udsf.org.
X-WR-RELCALID:d5ad69711f05fc12112d6684e6f645b7
X-WR-TIMEZONE:America/Denver
BEGIN:VTIMEZONE
TZID:America/Denver
BEGIN:STANDARD
TZNAME:MST
DTSTART:20191103T020000
TZOFFSETFROM:-0600
TZOFFSETTO:-0700
RDATE:20201101T020000
END:STANDARD
BEGIN:DAYLIGHT
TZNAME:MDT
DTSTART:20200308T020000
TZOFFSETFROM:-0700
TZOFFSETTO:-0600
RDATE:20210314T020000
END:DAYLIGHT
END:VTIMEZONE
BEGIN:VEVENT
UID:8b30a285-c92d-4242-acfd-1ae12c6d39de
DTSTAMP:20260420T131309Z
DESCRIPTION:Due to recommendations made by local leaders to help protect ou
 r community's health THIS EVENT HAS BEEN CANCELLED. For questions or conce
 rns please contact us at programs@udsf.org.
DTSTART;TZID=America/Denver:20200321T180000
DTEND;TZID=America/Denver:20200321T200000
LOCATION:North Logan Stake Center 1850 N 400 E\, North Logan\, UT 84341
SUMMARY:CANCELLED Cache Valley Crazy Sock Hop
END:VEVENT
END:VCALENDAR
