BEGIN:VCALENDAR
VERSION:2.0
PRODID:-//www.udsf.org//NONSGML kigkonsult.se iCalcreator 2.30.10//
CALSCALE:GREGORIAN
METHOD:PUBLISH
UID:bc8cc19f-3192-4ca6-8dc7-3ce80080296e
X-WR-CALDESC:Due to recommendations made by local leaders to help protect o
 ur community's health THIS EVENT HAS BEEN CANCELLED. For questions or conc
 erns please contact us at programs@udsf.org.
X-WR-RELCALID:3f47a0a5fa95b5d040c204ddf2f215f9
X-WR-TIMEZONE:America/Denver
BEGIN:VTIMEZONE
TZID:America/Denver
BEGIN:STANDARD
TZNAME:MST
DTSTART:20191103T020000
TZOFFSETFROM:-0600
TZOFFSETTO:-0700
RDATE:20201101T020000
END:STANDARD
BEGIN:DAYLIGHT
TZNAME:MDT
DTSTART:20200308T020000
TZOFFSETFROM:-0700
TZOFFSETTO:-0600
RDATE:20210314T020000
END:DAYLIGHT
END:VTIMEZONE
BEGIN:VEVENT
UID:9f7da1e4-c666-4a3f-b11d-049bda9819dd
DTSTAMP:20260420T131923Z
DESCRIPTION:Due to recommendations made by local leaders to help protect ou
 r community's health THIS EVENT HAS BEEN CANCELLED. For questions or conce
 rns please contact us at programs@udsf.org.
DTSTART;TZID=America/Denver:20200321T110000
DTEND;TZID=America/Denver:20200321T130000
LOCATION:Kaysville Theater\, 21 N. Main Street\, Kaysville 84037
SUMMARY:CANCELLED Davis Community Group Movie Magic
END:VEVENT
END:VCALENDAR
