BEGIN:VCALENDAR
VERSION:2.0
PRODID:-//www.udsf.org//NONSGML kigkonsult.se iCalcreator 2.30.10//
CALSCALE:GREGORIAN
METHOD:PUBLISH
UID:f3d701b3-94ba-4022-9afa-b3cde2ec684a
X-WR-CALDESC:Due to recommendations made by local leaders to help protect o
 ur community's health THIS EVENT HAS BEEN CANCELLED. For questions or conc
 erns please contact us at programs@udsf.org.
X-WR-RELCALID:1f756c955a00df7b32134a910d000d81
X-WR-TIMEZONE:America/Denver
BEGIN:VTIMEZONE
TZID:America/Denver
BEGIN:STANDARD
TZNAME:MST
DTSTART:20191103T020000
TZOFFSETFROM:-0600
TZOFFSETTO:-0700
RDATE:20201101T020000
END:STANDARD
BEGIN:DAYLIGHT
TZNAME:MDT
DTSTART:20200308T020000
TZOFFSETFROM:-0700
TZOFFSETTO:-0600
RDATE:20210314T020000
END:DAYLIGHT
END:VTIMEZONE
BEGIN:VEVENT
UID:52c5981c-66a2-4311-9f33-8c156b35abee
DTSTAMP:20260420T131349Z
DESCRIPTION:Due to recommendations made by local leaders to help protect ou
 r community's health THIS EVENT HAS BEEN CANCELLED. For questions or conce
 rns please contact us at programs@udsf.org.
DTSTART;TZID=America/Denver:20200321T180000
DTEND;TZID=America/Denver:20200321T200000
LOCATION:Elizabeth Academy 2870 Connor St\, Salt Lake City\, UT 84109
SUMMARY:CANCELLED SLC World Down Syndrome Day 2020
END:VEVENT
END:VCALENDAR
