BEGIN:VCALENDAR
VERSION:2.0
PRODID:-//www.udsf.org//NONSGML kigkonsult.se iCalcreator 2.30.10//
CALSCALE:GREGORIAN
METHOD:PUBLISH
UID:d2af0f01-1b7a-4d93-9d34-93fce26aa40e
X-WR-CALDESC:Due to recommendations made by local leaders to help protect o
 ur community's health THIS EVENT HAS BEEN CANCELLED. For questions or conc
 erns please contact us at programs@udsf.org.
X-WR-RELCALID:acd454041ab5a0f5595752604c6f23f7
X-WR-TIMEZONE:America/Denver
BEGIN:VTIMEZONE
TZID:America/Denver
BEGIN:STANDARD
TZNAME:MST
DTSTART:20191103T020000
TZOFFSETFROM:-0600
TZOFFSETTO:-0700
RDATE:20201101T020000
END:STANDARD
BEGIN:DAYLIGHT
TZNAME:MDT
DTSTART:20200308T020000
TZOFFSETFROM:-0700
TZOFFSETTO:-0600
RDATE:20210314T020000
END:DAYLIGHT
END:VTIMEZONE
BEGIN:VEVENT
UID:ece20f1a-9557-4170-b032-77795283ed78
DTSTAMP:20260420T131733Z
DESCRIPTION:Due to recommendations made by local leaders to help protect ou
 r community's health THIS EVENT HAS BEEN CANCELLED. For questions or conce
 rns please contact us at programs@udsf.org.
DTSTART;TZID=America/Denver:20200321T113000
DTEND;TZID=America/Denver:20200321T133000
LOCATION:Thunder Junction All Abilities Park\, 1851 S Dixie Dr\, St. George
 \, UT 84770
SUMMARY:CANCELLED Southern Utah World Down Syndrome Day Celebration
END:VEVENT
END:VCALENDAR
