BEGIN:VCALENDAR
VERSION:2.0
PRODID:-//www.udsf.org//NONSGML kigkonsult.se iCalcreator 2.30.10//
CALSCALE:GREGORIAN
METHOD:PUBLISH
UID:7d41876f-8821-49b9-8129-59371b6a2edc
X-WR-CALDESC:
X-WR-RELCALID:105d59607a69f42d0da1dd83973a4eda
X-WR-TIMEZONE:America/Denver
BEGIN:VTIMEZONE
TZID:America/Denver
BEGIN:STANDARD
TZNAME:MST
DTSTART:20191103T020000
TZOFFSETFROM:-0600
TZOFFSETTO:-0700
RDATE:20201101T020000
END:STANDARD
BEGIN:DAYLIGHT
TZNAME:MDT
DTSTART:20200308T020000
TZOFFSETFROM:-0700
TZOFFSETTO:-0600
RDATE:20210314T020000
END:DAYLIGHT
END:VTIMEZONE
BEGIN:VEVENT
UID:62f64676-790f-41ce-9dbb-ce7c606c74c5
DTSTAMP:20260420T112714Z
DESCRIPTION:
DTSTART;TZID=America/Denver:20200412T000000
DTEND;TZID=America/Denver:20200412T235900
LOCATION:
SUMMARY:Easter
END:VEVENT
END:VCALENDAR
