BEGIN:VCALENDAR
VERSION:2.0
PRODID:-//www.udsf.org//NONSGML kigkonsult.se iCalcreator 2.30.10//
CALSCALE:GREGORIAN
METHOD:PUBLISH
UID:87f57c4d-ddc0-45eb-918d-8e3593de2347
X-WR-CALDESC:Join other moms in the Davis county area as we chat and connec
 t about life and having children with Down syndrome.\n(you are responsible
  to pay for your own meal)
X-WR-RELCALID:d1ddabe14750ee08c34428ced85f2c5d
X-WR-TIMEZONE:America/Denver
BEGIN:VTIMEZONE
TZID:America/Denver
BEGIN:STANDARD
TZNAME:MST
DTSTART:20191103T020000
TZOFFSETFROM:-0600
TZOFFSETTO:-0700
RDATE:20201101T020000
END:STANDARD
BEGIN:DAYLIGHT
TZNAME:MDT
DTSTART:20200308T020000
TZOFFSETFROM:-0700
TZOFFSETTO:-0600
RDATE:20210314T020000
END:DAYLIGHT
END:VTIMEZONE
BEGIN:VEVENT
UID:1fdabc58-45e1-4c86-8b86-7a1fc1cb168b
DTSTAMP:20260420T112554Z
DESCRIPTION:Join other moms in the Davis county area as we chat and connect
  about life and having children with Down syndrome.\n(you are responsible 
 to pay for your own meal)
DTSTART;TZID=America/Denver:20200415T130000
DTEND;TZID=America/Denver:20200415T140000
LOCATION:Cafe Zupas\, 262 Central Ave\, Farmington\, UT 84025
SUMMARY:Davis County Moms Lunch - Canceled
END:VEVENT
END:VCALENDAR
