BEGIN:VCALENDAR
VERSION:2.0
PRODID:-//www.udsf.org//NONSGML kigkonsult.se iCalcreator 2.30.10//
CALSCALE:GREGORIAN
METHOD:PUBLISH
UID:fc24c834-b8cf-4df7-966c-11ad680b1f30
X-WR-CALDESC:Due to Governor Gary Herbert's Stay Home Stay Safe initiative 
 session #4 of the Salt Lake Area Kindergarten Kickoff has been moved to on
 line. Registrants will receive an email containing a link and password to 
 join in via Zoom. \n\n
X-WR-RELCALID:fa46ee69e1050f47ecbd4801e7e6bc3a
X-WR-TIMEZONE:America/Denver
BEGIN:VTIMEZONE
TZID:America/Denver
BEGIN:STANDARD
TZNAME:MST
DTSTART:20191103T020000
TZOFFSETFROM:-0600
TZOFFSETTO:-0700
RDATE:20201101T020000
END:STANDARD
BEGIN:DAYLIGHT
TZNAME:MDT
DTSTART:20200308T020000
TZOFFSETFROM:-0700
TZOFFSETTO:-0600
RDATE:20210314T020000
END:DAYLIGHT
END:VTIMEZONE
BEGIN:VEVENT
UID:00848a14-4bb6-4b90-9153-9d8de4068c64
DTSTAMP:20260420T111844Z
DESCRIPTION:Due to Governor Gary Herbert's Stay Home Stay Safe initiative s
 ession #4 of the Salt Lake Area Kindergarten Kickoff has been moved to onl
 ine. Registrants will receive an email containing a link and password to j
 oin in via Zoom. \n\n
DTSTART;TZID=America/Denver:20200425T103000
DTEND;TZID=America/Denver:20200425T123000
LOCATION:Zoom
SUMMARY:Salt Lake Area Kindergarten Kickoff Class - Being held online
END:VEVENT
END:VCALENDAR
