BEGIN:VCALENDAR
VERSION:2.0
PRODID:-//www.udsf.org//NONSGML kigkonsult.se iCalcreator 2.30.10//
CALSCALE:GREGORIAN
METHOD:PUBLISH
UID:26a33b08-eb40-42a5-9bac-8da0781c3697
X-WR-CALDESC:Or register by clicking the registration link below.
X-WR-RELCALID:c43090cd23ebb9ebc16f8a2dace4b7a8
X-WR-TIMEZONE:America/Denver
BEGIN:VTIMEZONE
TZID:America/Denver
BEGIN:STANDARD
TZNAME:MST
DTSTART:20191103T020000
TZOFFSETFROM:-0600
TZOFFSETTO:-0700
RDATE:20201101T020000
RDATE:20211107T020000
END:STANDARD
BEGIN:DAYLIGHT
TZNAME:MDT
DTSTART:20200308T020000
TZOFFSETFROM:-0700
TZOFFSETTO:-0600
RDATE:20210314T020000
END:DAYLIGHT
END:VTIMEZONE
BEGIN:VEVENT
UID:67f1db0e-1c71-4746-b1fd-1a668d93d00c
DTSTAMP:20260420T102123Z
DESCRIPTION:Or register by clicking the registration link below.
DTSTART;TZID=America/Denver:20200818T110000
DTEND;TZID=America/Denver:20200818T220000
LOCATION:http://www.lagoonpark.com/
SUMMARY:Lagoon Day
END:VEVENT
END:VCALENDAR
