BEGIN:VCALENDAR
VERSION:2.0
PRODID:-//www.udsf.org//NONSGML kigkonsult.se iCalcreator 2.30.10//
CALSCALE:GREGORIAN
METHOD:PUBLISH
UID:3608ca57-a709-46f8-9fa5-1b99b1baa94d
X-WR-CALDESC:
X-WR-RELCALID:3e0007702cb02ee763ac45990a9a1850
X-WR-TIMEZONE:America/Denver
BEGIN:VTIMEZONE
TZID:America/Denver
BEGIN:STANDARD
TZNAME:MST
DTSTART:20191103T020000
TZOFFSETFROM:-0600
TZOFFSETTO:-0700
RDATE:20201101T020000
RDATE:20211107T020000
END:STANDARD
BEGIN:DAYLIGHT
TZNAME:MDT
DTSTART:20200308T020000
TZOFFSETFROM:-0700
TZOFFSETTO:-0600
RDATE:20210314T020000
END:DAYLIGHT
END:VTIMEZONE
BEGIN:VEVENT
UID:4d76ee99-111c-4c8d-9135-ca16a9785796
DTSTAMP:20260420T095019Z
DESCRIPTION:
DTSTART;TZID=America/Denver:20200829T100000
DTEND;TZID=America/Denver:20200829T110000
LOCATION:
SUMMARY:Mighty Steps Virtual Victory Lap
END:VEVENT
END:VCALENDAR
