BEGIN:VCALENDAR
VERSION:2.0
PRODID:-//www.udsf.org//NONSGML kigkonsult.se iCalcreator 2.30.10//
CALSCALE:GREGORIAN
METHOD:PUBLISH
UID:44567fe1-3fa2-42cc-84bb-6df19fc7f0cf
X-WR-CALDESC:Celebrate World Down Syndrome Day with UDSF at the Discovery G
 ateway Children's Museum! This is a private event and will only be our com
 munity from 6-9 PM. Join us in celebration of our wonderful Down Syndrome 
 community and register today!
X-WR-RELCALID:c9f482a94fd3c19cf6b259a798a30253
X-WR-TIMEZONE:America/Denver
BEGIN:VTIMEZONE
TZID:America/Denver
BEGIN:STANDARD
TZNAME:MST
DTSTART:20221106T020000
TZOFFSETFROM:-0600
TZOFFSETTO:-0700
RDATE:20231105T020000
END:STANDARD
BEGIN:DAYLIGHT
TZNAME:MDT
DTSTART:20230312T020000
TZOFFSETFROM:-0700
TZOFFSETTO:-0600
RDATE:20240310T020000
END:DAYLIGHT
END:VTIMEZONE
BEGIN:VEVENT
UID:e980d284-3b27-43b3-91e8-bbd4a0052004
DTSTAMP:20260423T084647Z
DESCRIPTION:Celebrate World Down Syndrome Day with UDSF at the Discovery Ga
 teway Children's Museum! This is a private event and will only be our comm
 unity from 6-9 PM. Join us in celebration of our wonderful Down Syndrome c
 ommunity and register today!
DTSTART;TZID=America/Denver:20230320T180000
DTEND;TZID=America/Denver:20230320T210000
LOCATION:444 W 100 S \, Salt Lake City\, UT 84101 US
SUMMARY:Salt Lake City WDSD Event
END:VEVENT
END:VCALENDAR
