BEGIN:VCALENDAR
VERSION:2.0
PRODID:-//www.udsf.org//NONSGML kigkonsult.se iCalcreator 2.30.10//
CALSCALE:GREGORIAN
METHOD:PUBLISH
UID:af88d83e-6bea-45df-82f9-21daeaab78ed
X-WR-CALDESC:
X-WR-RELCALID:6193c6ac98a5bf40481e58f57e70084a
X-WR-TIMEZONE:America/Denver
BEGIN:VTIMEZONE
TZID:America/Denver
BEGIN:STANDARD
TZNAME:MST
DTSTART:20231105T020000
TZOFFSETFROM:-0600
TZOFFSETTO:-0700
RDATE:20241103T020000
END:STANDARD
BEGIN:DAYLIGHT
TZNAME:MDT
DTSTART:20230312T020000
TZOFFSETFROM:-0700
TZOFFSETTO:-0600
RDATE:20240310T020000
RDATE:20250309T020000
END:DAYLIGHT
END:VTIMEZONE
BEGIN:VEVENT
UID:63d5f6d1-9f45-489d-a6af-8b1b683e2147
DTSTAMP:20260421T073604Z
DESCRIPTION:
DTSTART;TZID=America/Denver:20231117T180000
DTEND;TZID=America/Denver:20231117T200000
LOCATION:11473 South Chapel View Drive\, South Jordan\, UT 84095 US
SUMMARY:Adults w/ DS Pizza Party & Service Activity
END:VEVENT
END:VCALENDAR
