BEGIN:VCALENDAR
VERSION:2.0
PRODID:-//www.udsf.org//NONSGML kigkonsult.se iCalcreator 2.30.10//
CALSCALE:GREGORIAN
METHOD:PUBLISH
UID:9b7e1c70-6d1c-4908-b695-527bf318bb2c
X-WR-CALDESC:Join other UDSF moms at our September Davis County Mom's Lunch
  at Chilis! Please RSVP.
X-WR-RELCALID:6898c3adf528805837cef6056c04d475
X-WR-TIMEZONE:America/Denver
BEGIN:VTIMEZONE
TZID:America/Denver
BEGIN:STANDARD
TZNAME:MST
DTSTART:20231105T020000
TZOFFSETFROM:-0600
TZOFFSETTO:-0700
RDATE:20241103T020000
RDATE:20251102T020000
END:STANDARD
BEGIN:DAYLIGHT
TZNAME:MDT
DTSTART:20240310T020000
TZOFFSETFROM:-0700
TZOFFSETTO:-0600
RDATE:20250309T020000
RDATE:20260308T020000
END:DAYLIGHT
END:VTIMEZONE
BEGIN:VEVENT
UID:dac2ac07-cc27-4353-8fff-923532a4e8b9
DTSTAMP:20260422T091338Z
DESCRIPTION:Join other UDSF moms at our September Davis County Mom's Lunch 
 at Chilis! Please RSVP.
DTSTART;TZID=America/Denver:20240918T130000
DTEND;TZID=America/Denver:20240918T140000
LOCATION:1970 N 1000 W\, Layton\, UT 84041 US
SUMMARY:Davis County Mom's Lunch
END:VEVENT
END:VCALENDAR
