BEGIN:VCALENDAR
VERSION:2.0
PRODID:-//www.udsf.org//NONSGML kigkonsult.se iCalcreator 2.30.10//
CALSCALE:GREGORIAN
METHOD:PUBLISH
UID:eddc6e57-bf53-4789-9a95-c6f64ca727af
X-WR-CALDESC:
X-WR-RELCALID:b4b3b1988e72298ffa593ed6fc9f0650
X-WR-TIMEZONE:America/Denver
BEGIN:VTIMEZONE
TZID:America/Denver
BEGIN:STANDARD
TZNAME:MST
DTSTART:20231105T020000
TZOFFSETFROM:-0600
TZOFFSETTO:-0700
RDATE:20241103T020000
RDATE:20251102T020000
END:STANDARD
BEGIN:DAYLIGHT
TZNAME:MDT
DTSTART:20240310T020000
TZOFFSETFROM:-0700
TZOFFSETTO:-0600
RDATE:20250309T020000
RDATE:20260308T020000
END:DAYLIGHT
END:VTIMEZONE
BEGIN:VEVENT
UID:51869d9d-35ba-4b5e-8df4-4be1d335c9d2
DTSTAMP:20260420T081748Z
DESCRIPTION:
DTSTART;TZID=America/Denver:20240920T193000
DTEND;TZID=America/Denver:20240920T213000
LOCATION:825 State St\, Clearfield\, UT 84015 US
SUMMARY:Davis/Weber/Morgan Pool Party
END:VEVENT
END:VCALENDAR
