BEGIN:VCALENDAR
VERSION:2.0
PRODID:-//www.udsf.org//NONSGML kigkonsult.se iCalcreator 2.30.10//
CALSCALE:GREGORIAN
METHOD:PUBLISH
UID:8bc4bef6-d631-4bfd-a490-8f47f84316ba
X-WR-CALDESC:Join us for our Weber/Morgan Mom's Night Out at Longhorn Steak
 house! Please RSVP\, and we will see you there!
X-WR-RELCALID:52ab82c13cde51e592946f236a07b973
X-WR-TIMEZONE:America/Denver
BEGIN:VTIMEZONE
TZID:America/Denver
BEGIN:STANDARD
TZNAME:MST
DTSTART:20231105T020000
TZOFFSETFROM:-0600
TZOFFSETTO:-0700
RDATE:20241103T020000
RDATE:20251102T020000
END:STANDARD
BEGIN:DAYLIGHT
TZNAME:MDT
DTSTART:20240310T020000
TZOFFSETFROM:-0700
TZOFFSETTO:-0600
RDATE:20250309T020000
RDATE:20260308T020000
END:DAYLIGHT
END:VTIMEZONE
BEGIN:VEVENT
UID:cd9edd86-5e5c-4dd2-908e-a6afaa1368a9
DTSTAMP:20260420T081910Z
DESCRIPTION:Join us for our Weber/Morgan Mom's Night Out at Longhorn Steakh
 ouse! Please RSVP\, and we will see you there!
DTSTART;TZID=America/Denver:20240926T180000
DTEND;TZID=America/Denver:20240926T190000
LOCATION:3647 Wall Ave\, Ogden\, UT 84405 US
SUMMARY:Weber Morgan Mom's Night Out
END:VEVENT
END:VCALENDAR
