BEGIN:VCALENDAR
VERSION:2.0
PRODID:-//www.udsf.org//NONSGML kigkonsult.se iCalcreator 2.30.10//
CALSCALE:GREGORIAN
METHOD:PUBLISH
UID:0c026d18-6e98-404d-a3a9-0a6d011308a2
X-WR-CALDESC:Join us for our Salt Lake City Mom's Night Out at Chili's in R
 iverton! Please RSVP.
X-WR-RELCALID:f94cc60d6506a9ddec3fa13775c49ccc
X-WR-TIMEZONE:America/Denver
BEGIN:VTIMEZONE
TZID:America/Denver
BEGIN:STANDARD
TZNAME:MST
DTSTART:20231105T020000
TZOFFSETFROM:-0600
TZOFFSETTO:-0700
RDATE:20241103T020000
RDATE:20251102T020000
END:STANDARD
BEGIN:DAYLIGHT
TZNAME:MDT
DTSTART:20240310T020000
TZOFFSETFROM:-0700
TZOFFSETTO:-0600
RDATE:20250309T020000
RDATE:20260308T020000
END:DAYLIGHT
END:VTIMEZONE
BEGIN:VEVENT
UID:4cb776e6-0460-4eda-89c8-b45a60f32e4a
DTSTAMP:20260422T085645Z
DESCRIPTION:Join us for our Salt Lake City Mom's Night Out at Chili's in Ri
 verton! Please RSVP.
DTSTART;TZID=America/Denver:20241005T180000
DTEND;TZID=America/Denver:20241005T190000
LOCATION:3766 W 13400 S\, Riverton\, UT 84065 US
SUMMARY:Salt Lake City MNO
END:VEVENT
END:VCALENDAR
