BEGIN:VCALENDAR
VERSION:2.0
PRODID:-//www.udsf.org//NONSGML kigkonsult.se iCalcreator 2.30.10//
CALSCALE:GREGORIAN
METHOD:PUBLISH
UID:b20849da-cc20-4210-b56f-98a1a45253f1
X-WR-CALDESC:Join other UDSF moms at our October Davis County Mom's Lunch a
 t Black Bear Diner! Please RSVP.
X-WR-RELCALID:237a6911749a00685d8492eb43fe5b2f
X-WR-TIMEZONE:America/Denver
BEGIN:VTIMEZONE
TZID:America/Denver
BEGIN:STANDARD
TZNAME:MST
DTSTART:20231105T020000
TZOFFSETFROM:-0600
TZOFFSETTO:-0700
RDATE:20241103T020000
RDATE:20251102T020000
END:STANDARD
BEGIN:DAYLIGHT
TZNAME:MDT
DTSTART:20240310T020000
TZOFFSETFROM:-0700
TZOFFSETTO:-0600
RDATE:20250309T020000
RDATE:20260308T020000
END:DAYLIGHT
END:VTIMEZONE
BEGIN:VEVENT
UID:4936f532-f1f3-41f9-94a0-a49d7c4957dd
DTSTAMP:20260420T095219Z
DESCRIPTION:Join other UDSF moms at our October Davis County Mom's Lunch at
  Black Bear Diner! Please RSVP.
DTSTART;TZID=America/Denver:20241016T130000
DTEND;TZID=America/Denver:20241016T140000
LOCATION:310 E Gentile St\, Layton\, UT 84041 US
SUMMARY:Davis County Mom's Lunch
END:VEVENT
END:VCALENDAR
