BEGIN:VCALENDAR
VERSION:2.0
PRODID:-//www.udsf.org//NONSGML kigkonsult.se iCalcreator 2.30.10//
CALSCALE:GREGORIAN
METHOD:PUBLISH
UID:be837ea7-8ca6-4031-b142-ec61654bb511
X-WR-CALDESC:You're invited to the Weber/Morgan Pumpkin Patch Palooza at Hu
 nt Family Farm! Join us for a corn maze and courtyard activities. \n\n$6 p
 er person - Individuals with DS and kids 2 and under are free. Register to
 day!\n*Pumpkins and Zombie Hunters activity available for an additional co
 st at the event.
X-WR-RELCALID:1b06a3b4a4c0fa071938dfc53e326cd5
X-WR-TIMEZONE:America/Denver
BEGIN:VTIMEZONE
TZID:America/Denver
BEGIN:STANDARD
TZNAME:MST
DTSTART:20231105T020000
TZOFFSETFROM:-0600
TZOFFSETTO:-0700
RDATE:20241103T020000
RDATE:20251102T020000
END:STANDARD
BEGIN:DAYLIGHT
TZNAME:MDT
DTSTART:20240310T020000
TZOFFSETFROM:-0700
TZOFFSETTO:-0600
RDATE:20250309T020000
RDATE:20260308T020000
END:DAYLIGHT
END:VTIMEZONE
BEGIN:VEVENT
UID:620a298d-60b4-46cc-b1a4-0451384a795e
DTSTAMP:20260420T094840Z
DESCRIPTION:You're invited to the Weber/Morgan Pumpkin Patch Palooza at Hun
 t Family Farm! Join us for a corn maze and courtyard activities. \n\n$6 pe
 r person - Individuals with DS and kids 2 and under are free. Register tod
 ay!\n*Pumpkins and Zombie Hunters activity available for an additional cos
 t at the event.
DTSTART;TZID=America/Denver:20241023T170000
DTEND;TZID=America/Denver:20241023T210000
LOCATION:3511 N 3900 W St\, Plain City\, UT 84404 US
SUMMARY:Weber/Morgan Pumpkin Patch Palooza
END:VEVENT
END:VCALENDAR
