BEGIN:VCALENDAR
VERSION:2.0
PRODID:-//www.udsf.org//NONSGML kigkonsult.se iCalcreator 2.30.10//
CALSCALE:GREGORIAN
METHOD:PUBLISH
UID:6da7977d-9b41-48c2-b5c9-24ead80f7510
X-WR-CALDESC:Join us for a Mom's Night Out dinner at Bella's! Please RSVP b
 y clicking 'RSVP' above.
X-WR-RELCALID:f4d8b91f7ff5c30c6be05146432f2aeb
X-WR-TIMEZONE:America/Denver
BEGIN:VTIMEZONE
TZID:America/Denver
BEGIN:STANDARD
TZNAME:MST
DTSTART:20231105T020000
TZOFFSETFROM:-0600
TZOFFSETTO:-0700
RDATE:20241103T020000
RDATE:20251102T020000
END:STANDARD
BEGIN:DAYLIGHT
TZNAME:MDT
DTSTART:20240310T020000
TZOFFSETFROM:-0700
TZOFFSETTO:-0600
RDATE:20250309T020000
RDATE:20260308T020000
END:DAYLIGHT
END:VTIMEZONE
BEGIN:VEVENT
UID:4b54fd35-3434-417d-afd5-984d64ddff4c
DTSTAMP:20260420T103149Z
DESCRIPTION:Join us for a Mom's Night Out dinner at Bella's! Please RSVP by
  clicking 'RSVP' above.
DTSTART;TZID=America/Denver:20241024T180000
DTEND;TZID=America/Denver:20241024T190000
LOCATION:2651 N 1850 W\, Farr West\, UT 84404 US
SUMMARY:Weber/Morgan MNO
END:VEVENT
END:VCALENDAR
